BEGIN:VCALENDAR
VERSION:2.0
PRODID:-//eventon.com NONSGML v1.0//EN
BEGIN:VEVENT
UID:69ea10ab91dbc
DTSTAMP:20260423T142931
DTSTART:20260617
DTEND:20260617
TZID:Europe/Berlin
LOCATION:Golfanlagen Groß Kienitz An der Straße nach Dahlewitz\,  15831 Blankenfelde-Mahlow
SUMMARY:18 Loch Turnier Gross Kienitz
DESCRIPTION: \nhttps://bkmcup.berlin/events/18-loch-turnier-gross-kienitz-2/
URL:https://bkmcup.berlin/events/18-loch-turnier-gross-kienitz-2/
END:VEVENT
END:VCALENDAR